View In:
ArcGIS JavaScript
ArcGIS Online Map Viewer
ArcGIS Earth
Service Description:
The MRMS QPE Image Service provides layers depicting the NWS Multi-Radar Multi-Sensor (MRMS) quantitative precipitation estimate mosaics in inches for 1-, 3-, 6-, 12-, 24-, 48-, and 72-hr time periods at a 1 km (0.6 miles) horizontal resolution for CONUS, Alaska, Hawaii and Puerto Rico. The precipitation estimates are based only on radar data.
Update Frequency: Usually by 0:04 after the hour
Background Information
The NWS Multi-Radar Multi-Sensor System (MRMS)/Q3 QPEs are radar-only based quantitative precipitation analyses.
For more information about the MRMS system, please see: http://www.nssl.noaa.gov/projects/mrms
Link to graphical web page:https://mrms.nssl.noaa.gov/qvs/product_viewer/
Link to data download: https://mrms.ncep.noaa.gov/data/2D/
Link to metadata
Questions/Concerns about the service, please contact the DISS GIS team.
How to use this service Time Information: This image service is not time enabled.
Name: obs/mrms_qpe
Description:
The MRMS QPE Image Service provides layers depicting the NWS Multi-Radar Multi-Sensor (MRMS) quantitative precipitation estimate mosaics in inches for 1-, 3-, 6-, 12-, 24-, 48-, and 72-hr time periods at a 1 km (0.6 miles) horizontal resolution for CONUS, Alaska, Hawaii and Puerto Rico. The precipitation estimates are based only on radar data.
Update Frequency: Usually by 0:04 after the hour
Background Information
The NWS Multi-Radar Multi-Sensor System (MRMS)/Q3 QPEs are radar-only based quantitative precipitation analyses.
For more information about the MRMS system, please see: http://www.nssl.noaa.gov/projects/mrms
Link to graphical web page:https://mrms.nssl.noaa.gov/qvs/product_viewer/
Link to data download: https://mrms.ncep.noaa.gov/data/2D/
Link to metadata
Questions/Concerns about the service, please contact the DISS GIS team.
How to use this service Time Information: This image service is not time enabled.
Single Fused Map Cache: false
Extent:
XMin: -175.99999999985712
YMin: 9.999999999857096
XMax: -59.999999999857124
YMax: 71.9999999998571
Spatial Reference: GEOGCS["GCS_Coordinate_System_imported_from_GRIB_file",DATUM["D_unknown",SPHEROID["Spheroid_imported_from_GRIB_file",6378160.0,298.2539162964695]],PRIMEM["Greenwich",0.0],UNIT["Degree",0.0174532925199433]]
Initial Extent:
XMin: -175.99999999985712
YMin: 9.999999999857096
XMax: -59.999999999857124
YMax: 71.9999999998571
Spatial Reference: GEOGCS["GCS_Coordinate_System_imported_from_GRIB_file",DATUM["D_unknown",SPHEROID["Spheroid_imported_from_GRIB_file",6378160.0,298.2539162964695]],PRIMEM["Greenwich",0.0],UNIT["Degree",0.0174532925199433]]
Full Extent:
XMin: -175.99999999985712
YMin: 9.999999999857096
XMax: -59.999999999857124
YMax: 71.9999999998571
Spatial Reference: GEOGCS["GCS_Coordinate_System_imported_from_GRIB_file",DATUM["D_unknown",SPHEROID["Spheroid_imported_from_GRIB_file",6378160.0,298.2539162964695]],PRIMEM["Greenwich",0.0],UNIT["Degree",0.0174532925199433]]
Pixel Size X: 0.005
Pixel Size Y: 0.005
Band Count: 1
Pixel Type: F64
RasterFunction Infos: {"rasterFunctionInfos": [
{
"name": "rft_1hr",
"description": "rft for 1 hr mrms data",
"help": ""
},
{
"name": "rft_3hr",
"description": "rft for 3 hr mrms data",
"help": ""
},
{
"name": "rft_6hr",
"description": "rft for 6 hr mrms data",
"help": ""
},
{
"name": "rft_12hr",
"description": "rft for 12 hr mrms data",
"help": ""
},
{
"name": "rft_24hr",
"description": "rft for 24 hr mrms data",
"help": ""
},
{
"name": "rft_48hr",
"description": "rft for 48 hr mrms data",
"help": ""
},
{
"name": "rft_72hr",
"description": "rft for 72 hr mrms data",
"help": ""
},
{
"name": "None",
"description": "A No-Op Function.",
"help": ""
},
{
"name": "unknown@gpml",
"description": "A raster function template.",
"help": ""
}
]}
Mensuration Capabilities: Basic
Inspection Capabilities:
Has Histograms: true
Has Colormap: false
Has Multi Dimensions : true
Rendering Rule:
Min Scale: 0
Max Scale: 0
Resampling: false
Copyright Text: NOAA/NWS
Service Data Type: esriImageServiceDataTypeScientific
Min Values: -3
Max Values: 99.80000305175781
Mean Values: -1.0200207938365102
Standard Deviation Values: 1.5369109765332054
Object ID Field: objectid
Fields:
-
objectid
(
type: esriFieldTypeOID, alias: objectid
)
-
name
(
type: esriFieldTypeString, alias: Name, length: 200
)
-
category
(
type: esriFieldTypeInteger, alias: category
, Coded Values:
[0: Unknown]
, [1: Primary]
, [2: Overview]
, ...6 more...
)
-
idp_subset
(
type: esriFieldTypeString, alias: GIS Subset, length: 50
)
-
idp_filedate
(
type: esriFieldTypeDate, alias: GIS File Date, length: 8
)
-
idp_ingestdate
(
type: esriFieldTypeDate, alias: GIS Ingest Date, length: 8
)
-
idp_validendtime
(
type: esriFieldTypeDate, alias: Period End Time, length: 8
)
-
shape
(
type: esriFieldTypeGeometry, alias: shape
)
-
st_area(shape)
(
type: esriFieldTypeDouble, alias: st_area(shape)
)
-
st_perimeter(shape)
(
type: esriFieldTypeDouble, alias: st_perimeter(shape)
)
Default Mosaic Method: ByAttribute
Allowed Mosaic Methods: ByAttribute,NorthWest,Center,LockRaster,Nadir,Viewpoint,Seamline,None
SortField: StdTime
SortValue: 0
Mosaic Operator: First
Default Compression Quality: 75
Default Resampling Method: Bilinear
Max Record Count: 1000
Max Image Height: 4100
Max Image Width: 15000
Max Download Image Count: 20
Max Mosaic Image Count: 40
Allow Raster Function: true
Allow Copy: true
Allow Analysis: true
Allow Compute TiePoints: false
Supports Statistics: true
Supports Advanced Queries: true
Use StandardizedQueries: true
Raster Type Infos:
Name: Raster Dataset
Description: Supports all ArcGIS Raster Datasets
Help:
Has Raster Attribute Table: false
Edit Fields Info: null
Ownership Based AccessControl For Rasters: null
Child Resources:
Info
Histograms
Statistics
Key Properties
Legend
Raster Function Infos
Multidimensional Info
Slices
Supported Operations:
Export Image
Query
Identify
Download Rasters
Get Image Url
Measure
Compute Histograms
Compute Statistics Histograms
Get Samples
Compute Class Statistics
Query GPS Info
Find Images
Image to Map
Map to Image
Measure from Image
Image to Map Multiray
Query Boundary
Compute Pixel Location
Compute Angles
Validate
Project