View In:
ArcGIS JavaScript
ArcGIS Online Map Viewer
ArcGIS Earth
Service Description: NDGD Air Quality Forecast Guidance for Vertical Smoke Integration Imagery Service's concentration units are micrograms per cubic meter. For further information please visit our website at
https://vlab.noaa.gov/web/osti-modeling/air-quality . This is a time enabled image service with WMS and WCS capabilities enabled. Forecast guidance is issued daily at 6Z model runs. Forecast information is provided in one hour intervals for the subsequent 48-hour period. Client applications may require users to specify time range parameters to view time sliced or loop data.
Update Frequency: The data in this image service updates twice a day at 6Z and at 12Z.
Link to graphical web page: https://airquality.weather.gov
Link to data download (grib2): https://tgftp.nws.noaa.gov/SL.us008001/ST.opnl/DF.gr2/DC.ndgd/GT.aq/
Link to metadata
Questions/Concerns about the service, please contact the DISS GIS team
Time Information: This map is time-enabled.
Name: air_quality/ndgd_smoke_vert_1hr_avg_time
Description: NDGD Air Quality Forecast Guidance for Vertical Smoke Integration Imagery Service's concentration units are micrograms per cubic meter. For further information please visit our website at
https://vlab.noaa.gov/web/osti-modeling/air-quality . This is a time enabled image service with WMS and WCS capabilities enabled. Forecast guidance is issued daily at 6Z model runs. Forecast information is provided in one hour intervals for the subsequent 48-hour period. Client applications may require users to specify time range parameters to view time sliced or loop data.
Update Frequency: The data in this image service updates twice a day at 6Z and at 12Z.
Link to graphical web page: https://airquality.weather.gov
Link to data download (grib2): https://tgftp.nws.noaa.gov/SL.us008001/ST.opnl/DF.gr2/DC.ndgd/GT.aq/
Link to metadata
Questions/Concerns about the service, please contact the DISS GIS team
Time Information: This map is time-enabled.
Single Fused Map Cache: false
Extent:
XMin: -2.00375070672E7
YMin: 1362675.8122999966
XMax: 2.00374929328E7
YMax: 1.3112675812299997E7
Spatial Reference: 102100
(3857)
Initial Extent:
XMin: -2.00375070672E7
YMin: 1362675.8122999966
XMax: 2.00374929328E7
YMax: 1.3112675812299997E7
Spatial Reference: 102100
(3857)
Full Extent:
XMin: -2.00375070672E7
YMin: 1362675.8122999966
XMax: 2.00374929328E7
YMax: 1.3112675812299997E7
Spatial Reference: 102100
(3857)
Time Info:
Start Time Field: idp_validtime
End Time Field: idp_validendtime
Time Extent:
[2025/03/25 03:00:00 UTC, 2025/03/27 06:59:00 UTC]
Time Reference:
N/A
Pixel Size X: 2500.0
Pixel Size Y: 2500.0
Band Count: 1
Pixel Type: F64
RasterFunction Infos: {"rasterFunctionInfos": [
{
"name": "smoke_don_0921",
"description": "A raster function template.",
"help": ""
},
{
"name": "None",
"description": "A No-Op Function.",
"help": ""
}
]}
Mensuration Capabilities: None
Inspection Capabilities:
Has Histograms: true
Has Colormap: false
Has Multi Dimensions : true
Rendering Rule:
Min Scale: 0
Max Scale: 0
Resampling: false
Copyright Text: National Oceanic and Atmospheric Administration, NOAA, National Weather Service, NWS
Service Data Type: esriImageServiceDataTypeScientific
Min Values: 9.189863514364765E-22
Max Values: 9.618399781174958E-5
Mean Values: 2.568975040307524E-7
Standard Deviation Values: 1.0798882729414763E-6
Object ID Field: objectid
Fields:
-
objectid
(
type: esriFieldTypeOID, alias: objectid
)
-
name
(
type: esriFieldTypeString, alias: name, length: 200
)
-
category
(
type: esriFieldTypeInteger, alias: category
, Coded Values:
[0: Unknown]
, [1: Primary]
, [2: Overview]
, ...6 more...
)
-
idp_source
(
type: esriFieldTypeString, alias: idp_source, length: 50
)
-
idp_subset
(
type: esriFieldTypeString, alias: idp_subset, length: 50
)
-
idp_filedate
(
type: esriFieldTypeDate, alias: idp_filedate, length: 8
)
-
idp_ingestdate
(
type: esriFieldTypeDate, alias: idp_ingestdate, length: 8
)
-
idp_current_forecast
(
type: esriFieldTypeInteger, alias: idp_current_forecast
)
-
idp_time_series
(
type: esriFieldTypeInteger, alias: idp_time_series
)
-
idp_issueddate
(
type: esriFieldTypeDate, alias: idp_issueddate, length: 8
)
-
idp_validtime
(
type: esriFieldTypeDate, alias: idp_validtime, length: 8
)
-
idp_validendtime
(
type: esriFieldTypeDate, alias: idp_validendtime, length: 8
)
-
idp_fcst_hour
(
type: esriFieldTypeInteger, alias: idp_fcst_hour
)
-
idp_grb_level
(
type: esriFieldTypeString, alias: idp_grb_level, length: 50
)
-
idp_grb_elem
(
type: esriFieldTypeString, alias: idp_grb_elem, length: 255
)
-
shape
(
type: esriFieldTypeGeometry, alias: shape
)
-
st_area(shape)
(
type: esriFieldTypeDouble, alias: st_area(shape)
)
-
st_perimeter(shape)
(
type: esriFieldTypeDouble, alias: st_perimeter(shape)
)
Default Mosaic Method: ByAttribute
Allowed Mosaic Methods: ByAttribute,NorthWest,Center,LockRaster,Nadir,Viewpoint,Seamline,None
SortField: StdTime
SortValue: 0
Mosaic Operator: First
Default Compression Quality: 75
Default Resampling Method: Bilinear
Max Record Count: 1000
Max Image Height: 4100
Max Image Width: 15000
Max Download Image Count: 20
Max Mosaic Image Count: 20
Allow Raster Function: true
Allow Copy: true
Allow Analysis: true
Allow Compute TiePoints: false
Supports Statistics: true
Supports Advanced Queries: true
Use StandardizedQueries: true
Raster Type Infos:
Name: Raster Dataset
Description: Supports all ArcGIS Raster Datasets
Help:
Has Raster Attribute Table: false
Edit Fields Info: null
Ownership Based AccessControl For Rasters: null
Child Resources:
Info
Histograms
Statistics
Key Properties
Legend
Raster Function Infos
Multidimensional Info
Slices
Supported Operations:
Export Image
Query
Identify
Download Rasters
Get Image Url
Measure
Compute Histograms
Compute Statistics Histograms
Get Samples
Compute Class Statistics
Query GPS Info
Find Images
Image to Map
Map to Image
Measure from Image
Image to Map Multiray
Query Boundary
Compute Pixel Location
Compute Angles
Validate
Project