View In:
ArcGIS JavaScript
ArcGIS Online Map Viewer
ArcGIS Earth
Service Description: NDGD Air Quality Forecast Guidance for Eight Hour Maximum Ozone Concentration Imagery Service's concentration units are parts per billion. For further information please visit our website at
https://vlab.noaa.gov/web/osti-modeling/air-quality. This is a time enabled image service with WMS and WCS capabilities enabled. Forecast guidance is issued twice daily based on 6Z and 12Z model runs. Forecast information is provided in one hour intervals for the subsequent 48-hour period. Client applications may require users to specify time range parameters to view time sliced or loop data.
Update Frequency: The data in this image service updates twice a day at 6Z and at 12Z.
Link to graphical web page: https://airquality.weather.gov
Link to data download (grib2): https://tgftp.nws.noaa.gov/SL.us008001/ST.opnl/DF.gr2/DC.ndgd/GT.aq/
Link to metadata
Questions/Concerns about the service, please contact the DISS GIS team
Time Information: This map is time-enabled.
Name: air_quality/ndgd_ozone_8hr_max_time
Description: NDGD Air Quality Forecast Guidance for Eight Hour Maximum Ozone Concentration Imagery Service's concentration units are parts per billion. For further information please visit our website at
https://vlab.noaa.gov/web/osti-modeling/air-quality. This is a time enabled image service with WMS and WCS capabilities enabled. Forecast guidance is issued twice daily based on 6Z and 12Z model runs. Forecast information is provided in one hour intervals for the subsequent 48-hour period. Client applications may require users to specify time range parameters to view time sliced or loop data.
Update Frequency: The data in this image service updates twice a day at 6Z and at 12Z.
Link to graphical web page: https://airquality.weather.gov
Link to data download (grib2): https://tgftp.nws.noaa.gov/SL.us008001/ST.opnl/DF.gr2/DC.ndgd/GT.aq/
Link to metadata
Questions/Concerns about the service, please contact the DISS GIS team
Time Information: This map is time-enabled.
Single Fused Map Cache: false
Extent:
XMin: -1.7020488935694512E7
YMin: 1365218.4954028241
XMax: -5492812.410885051
YMax: 8693572.113577709
Spatial Reference: 102100
(3857)
Initial Extent:
XMin: -1.7020488935694512E7
YMin: 1365218.4954028241
XMax: -5492812.410885051
YMax: 8693572.113577709
Spatial Reference: 102100
(3857)
Full Extent:
XMin: -1.7020488935694512E7
YMin: 1365218.4954028241
XMax: -5492812.410885051
YMax: 8693572.113577709
Spatial Reference: 102100
(3857)
Time Info:
Start Time Field: idp_validtime
End Time Field: idp_validendtime
Time Extent:
[2025/12/17 12:00:00 UTC, 2025/12/19 06:00:00 UTC]
Time Reference:
N/A
Pixel Size X: 6295.836441731
Pixel Size Y: 6295.836441731
Band Count: 1
Pixel Type: F32
RasterFunction Infos: {"rasterFunctionInfos": [
{
"name": "ozone_colormap",
"description": "A raster function template.",
"help": ""
},
{
"name": "None",
"description": "Make a Raster or Raster Dataset into a Function Raster Dataset.",
"help": ""
}
]}
Mensuration Capabilities:
Inspection Capabilities:
Has Histograms: true
Has Colormap: false
Has Multi Dimensions : false
Rendering Rule:
Min Scale: 0
Max Scale: 0
Resampling: false
Copyright Text: National Oceanic and Atmospheric Administration, NOAA, National Weather Service, NWS
Service Data Type: esriImageServiceDataTypeGeneric
Min Values: 20.751419067382812
Max Values: 93.01742553710938
Mean Values: 36.00571662207709
Standard Deviation Values: 8.037683304331479
Object ID Field: objectid
Fields:
-
objectid
(
type: esriFieldTypeOID, alias: objectid
)
-
category
(
type: esriFieldTypeInteger, alias: category
, Coded Values:
[0: Unknown]
, [1: Primary]
, [2: Overview]
, ...6 more...
)
-
shape
(
type: esriFieldTypeGeometry, alias: shape
)
-
idp_ingestdate
(
type: esriFieldTypeDate, alias: GIS Ingest Date, length: 8
)
-
idp_filedate
(
type: esriFieldTypeDate, alias: GIS File Date, length: 8
)
-
idp_subset
(
type: esriFieldTypeString, alias: GIS Subset, length: 50
)
-
idp_validtime
(
type: esriFieldTypeDate, alias: Valid Time, length: 8
)
-
idp_validendtime
(
type: esriFieldTypeDate, alias: Valid End Time, length: 8
)
-
idp_fcst_hour
(
type: esriFieldTypeDouble, alias: Forecast Hour
)
-
idp_time_series
(
type: esriFieldTypeSmallInteger, alias: Forecast Hour
)
-
idp_issueddate
(
type: esriFieldTypeDate, alias: Reference Time, length: 8
)
Default Mosaic Method: ByAttribute
Allowed Mosaic Methods: ByAttribute,LockRaster
SortField: idp_subset
SortValue: 0
Mosaic Operator: First
Default Compression Quality: 75
Default Resampling Method: Bilinear
Max Record Count: 1000
Max Image Height: 4100
Max Image Width: 15000
Max Download Image Count: 20
Max Mosaic Image Count: 20
Allow Raster Function: true
Allow Copy: true
Allow Analysis: true
Allow Compute TiePoints: false
Supports Statistics: true
Supports Advanced Queries: true
Use StandardizedQueries: true
Raster Type Infos:
Name: Raster Dataset
Description: Supports all ArcGIS Raster Datasets
Help:
Has Raster Attribute Table: false
Edit Fields Info: null
Ownership Based AccessControl For Rasters: null
Child Resources:
Info
Histograms
Statistics
Key Properties
Legend
Raster Function Infos
Supported Operations:
Export Image
Query
Identify
Download Rasters
Get Image Url
Measure
Compute Histograms
Compute Statistics Histograms
Get Samples
Compute Class Statistics
Query GPS Info
Find Images
Image to Map
Map to Image
Measure from Image
Image to Map Multiray
Query Boundary
Compute Pixel Location
Compute Angles
Validate
Project