. <\/span><\/p>Time Information:<\/span><\/p>This service is not time enabled.<\/span><\/p><\/div><\/div><\/div>",
"extent": {
"xmin": -12288000,
"ymin": -12288000,
"xmax": 12288000,
"ymax": 12302000,
"spatialReference": {
"wkt2": "PROJCRS[\"Polar_Stereographic\",BASEGEOGCRS[\"GCS_D_Unknown\",DATUM[\"D_unknown\",ELLIPSOID[\"Unknown\",6378137.0,291.5053473491773,LENGTHUNIT[\"Meter\",1.0]]],PRIMEM[\"Greenwich\",0.0,ANGLEUNIT[\"Degree\",0.0174532925199433]],CS[ellipsoidal,2],ANGLEUNIT[\"Degree\",0.0174532925199433]],CONVERSION[\"Stereographic_North_Pole\",METHOD[\"Stereographic_North_Pole\"],PARAMETER[\"false_easting\",0.0,LENGTHUNIT[\"Meter\",1.0]],PARAMETER[\"false_northing\",0.0,LENGTHUNIT[\"Meter\",1.0]],PARAMETER[\"central_meridian\",-80.0,ANGLEUNIT[\"Degree\",0.0174532925199433]],PARAMETER[\"standard_parallel_1\",60.0,ANGLEUNIT[\"Degree\",0.0174532925199433]]],CS[Cartesian,2],AXIS[\"Easting (X)\",east,ORDER[1]],AXIS[\"Northing (Y)\",north,ORDER[2]],LENGTHUNIT[\"Meter\",1.0]]",
"wkt": "PROJCS[\"Polar_Stereographic\",GEOGCS[\"GCS_D_Unknown\",DATUM[\"D_unknown\",SPHEROID[\"Unknown\",6378137.0,291.5053473491773]],PRIMEM[\"Greenwich\",0.0],UNIT[\"Degree\",0.0174532925199433]],PROJECTION[\"Stereographic_North_Pole\"],PARAMETER[\"false_easting\",0.0],PARAMETER[\"false_northing\",0.0],PARAMETER[\"central_meridian\",-80.0],PARAMETER[\"standard_parallel_1\",60.0],UNIT[\"Meter\",1.0]]"
}
},
"initialExtent": {
"xmin": -12288000,
"ymin": -12288000,
"xmax": 12288000,
"ymax": 12302000,
"spatialReference": {
"wkt2": "PROJCRS[\"Polar_Stereographic\",BASEGEOGCRS[\"GCS_D_Unknown\",DATUM[\"D_unknown\",ELLIPSOID[\"Unknown\",6378137.0,291.5053473491773,LENGTHUNIT[\"Meter\",1.0]]],PRIMEM[\"Greenwich\",0.0,ANGLEUNIT[\"Degree\",0.0174532925199433]],CS[ellipsoidal,2],ANGLEUNIT[\"Degree\",0.0174532925199433]],CONVERSION[\"Stereographic_North_Pole\",METHOD[\"Stereographic_North_Pole\"],PARAMETER[\"false_easting\",0.0,LENGTHUNIT[\"Meter\",1.0]],PARAMETER[\"false_northing\",0.0,LENGTHUNIT[\"Meter\",1.0]],PARAMETER[\"central_meridian\",-80.0,ANGLEUNIT[\"Degree\",0.0174532925199433]],PARAMETER[\"standard_parallel_1\",60.0,ANGLEUNIT[\"Degree\",0.0174532925199433]]],CS[Cartesian,2],AXIS[\"Easting (X)\",east,ORDER[1]],AXIS[\"Northing (Y)\",north,ORDER[2]],LENGTHUNIT[\"Meter\",1.0]]",
"wkt": "PROJCS[\"Polar_Stereographic\",GEOGCS[\"GCS_D_Unknown\",DATUM[\"D_unknown\",SPHEROID[\"Unknown\",6378137.0,291.5053473491773]],PRIMEM[\"Greenwich\",0.0],UNIT[\"Degree\",0.0174532925199433]],PROJECTION[\"Stereographic_North_Pole\"],PARAMETER[\"false_easting\",0.0],PARAMETER[\"false_northing\",0.0],PARAMETER[\"central_meridian\",-80.0],PARAMETER[\"standard_parallel_1\",60.0],UNIT[\"Meter\",1.0]]"
}
},
"fullExtent": {
"xmin": -12288000,
"ymin": -12288000,
"xmax": 12288000,
"ymax": 12302000,
"spatialReference": {
"wkt2": "PROJCRS[\"Polar_Stereographic\",BASEGEOGCRS[\"GCS_D_Unknown\",DATUM[\"D_unknown\",ELLIPSOID[\"Unknown\",6378137.0,291.5053473491773,LENGTHUNIT[\"Meter\",1.0]]],PRIMEM[\"Greenwich\",0.0,ANGLEUNIT[\"Degree\",0.0174532925199433]],CS[ellipsoidal,2],ANGLEUNIT[\"Degree\",0.0174532925199433]],CONVERSION[\"Stereographic_North_Pole\",METHOD[\"Stereographic_North_Pole\"],PARAMETER[\"false_easting\",0.0,LENGTHUNIT[\"Meter\",1.0]],PARAMETER[\"false_northing\",0.0,LENGTHUNIT[\"Meter\",1.0]],PARAMETER[\"central_meridian\",-80.0,ANGLEUNIT[\"Degree\",0.0174532925199433]],PARAMETER[\"standard_parallel_1\",60.0,ANGLEUNIT[\"Degree\",0.0174532925199433]]],CS[Cartesian,2],AXIS[\"Easting (X)\",east,ORDER[1]],AXIS[\"Northing (Y)\",north,ORDER[2]],LENGTHUNIT[\"Meter\",1.0]]",
"wkt": "PROJCS[\"Polar_Stereographic\",GEOGCS[\"GCS_D_Unknown\",DATUM[\"D_unknown\",SPHEROID[\"Unknown\",6378137.0,291.5053473491773]],PRIMEM[\"Greenwich\",0.0],UNIT[\"Degree\",0.0174532925199433]],PROJECTION[\"Stereographic_North_Pole\"],PARAMETER[\"false_easting\",0.0],PARAMETER[\"false_northing\",0.0],PARAMETER[\"central_meridian\",-80.0],PARAMETER[\"standard_parallel_1\",60.0],UNIT[\"Meter\",1.0]]"
}
},
"sortableFields": "minps,maxps,lowps,highps,centerx,centery,zorder,st_area(shape),st_perimeter(shape),idp_filedate,idp_ingestdate,idp_current_forecast,idp_time_series,idp_validtime,idp_validendtime,idp_fcst_hour,idp_issueddate",
"bandCount": 1,
"pixelType": "U8",
"minValues": [
0
],
"maxValues": [
4
],
"meanValues": [
1.0480508969894757
],
"stdvValues": [
0.8430619030428826
],
"hasMultidimensions": false,
"pixelSizeX": 1000,
"pixelSizeY": 1000,
"meanPixelSize": 1000,
"datasetFormat": "AMD",
"uncompressedSize": 604323840,
"blockWidth": 2048,
"blockHeight": 256,
"compressionType": "None",
"bandNames": [
"Band_1"
],
"allowCopy": true,
"allowAnalysis": true,
"itemAccess": false,
"inspectionCapabilities": "",
"minPixelSize": 0,
"maxPixelSize": 0,
"copyrightText": "National Oceanic & Atmospheric Administration, U.S. National Ice Center, National Weather Service",
"serviceDataType": "esriImageServiceDataTypeGeneric",
"serviceSourceType": "esriImageServiceSourceTypeMosaicDataset",
"objectIdField": "objectid",
"fields": [
{
"name": "objectid",
"type": "esriFieldTypeOID",
"alias": "objectid",
"domain": null
},
{
"name": "name",
"type": "esriFieldTypeString",
"alias": "name",
"domain": null,
"length": 200
},
{
"name": "minps",
"type": "esriFieldTypeDouble",
"alias": "minps",
"domain": null
},
{
"name": "maxps",
"type": "esriFieldTypeDouble",
"alias": "maxps",
"domain": null
},
{
"name": "lowps",
"type": "esriFieldTypeDouble",
"alias": "lowps",
"domain": null
},
{
"name": "highps",
"type": "esriFieldTypeDouble",
"alias": "highps",
"domain": null
},
{
"name": "category",
"type": "esriFieldTypeInteger",
"alias": "category",
"domain": {
"type": "codedValue",
"name": "MosaicCatalogItemCategoryDomain",
"description": "Catalog item categories.",
"codedValues": [
{
"name": "Unknown",
"code": 0
},
{
"name": "Primary",
"code": 1
},
{
"name": "Overview",
"code": 2
},
{
"name": "Unprocessed Overview",
"code": 3
},
{
"name": "Partial Overview",
"code": 4
},
{
"name": "Inactive",
"code": 5
},
{
"name": "Uploaded",
"code": 253
},
{
"name": "Incomplete",
"code": 254
},
{
"name": "Custom",
"code": 255
}
],
"mergePolicy": "esriMPTDefaultValue",
"splitPolicy": "esriSPTDefaultValue"
}
},
{
"name": "tag",
"type": "esriFieldTypeString",
"alias": "tag",
"domain": null,
"length": 100
},
{
"name": "groupname",
"type": "esriFieldTypeString",
"alias": "groupname",
"domain": null,
"length": 100
},
{
"name": "productname",
"type": "esriFieldTypeString",
"alias": "productname",
"domain": null,
"length": 100
},
{
"name": "centerx",
"type": "esriFieldTypeDouble",
"alias": "centerx",
"domain": null
},
{
"name": "centery",
"type": "esriFieldTypeDouble",
"alias": "centery",
"domain": null
},
{
"name": "zorder",
"type": "esriFieldTypeInteger",
"alias": "zorder",
"domain": null
},
{
"name": "shape",
"type": "esriFieldTypeGeometry",
"alias": "shape",
"domain": null
},
{
"name": "idp_ingestdate",
"type": "esriFieldTypeDate",
"alias": "GIS Ingest Date",
"domain": null,
"length": 8
},
{
"name": "idp_filedate",
"type": "esriFieldTypeDate",
"alias": "GIS File Date",
"domain": null,
"length": 8
},
{
"name": "st_area(shape)",
"type": "esriFieldTypeDouble",
"alias": "st_area(shape)",
"domain": null
},
{
"name": "st_perimeter(shape)",
"type": "esriFieldTypeDouble",
"alias": "st_perimeter(shape)",
"domain": null
}
],
"capabilities": "Catalog,Mensuration,Pixels,Download,Image,Metadata",
"defaultMosaicMethod": "Northwest",
"allowedMosaicMethods": "NorthWest,Center,LockRaster,ByAttribute,Nadir,Viewpoint,Seamline,None",
"sortField": "",
"sortValue": null,
"sortAscending": true,
"mosaicOperator": "First",
"maxDownloadSizeLimit": 2048,
"defaultCompressionQuality": 75,
"defaultResamplingMethod": "Nearest",
"maxImageHeight": 4100,
"maxImageWidth": 15000,
"maxRecordCount": 1000,
"maxDownloadImageCount": 20,
"maxMosaicImageCount": 20,
"allowRasterFunction": true,
"rasterFunctionInfos": [
{
"name": "rft_usnic_ims_1km",
"description": "usnic_ims_1km-usnic_ims_1km- usnic_ims_1km - The Raster Map Function for Interactive Multisensor Snow and Ice Mapping System (IMS) is an operational software package used to demarcate the presence of snow and ice across the entire northern hemisphere. This software enables qualified analysts to access multiple sets of remotely sensed data in order to create and distribute 1 km resolution maps of snow and ice. The data is used for operational weather model initializations as well as other NOAA programs, and academic studies. The Digital Object Identifier for IMS information is 10.7265/N52R3PMC . Please visit our IMS information page or IMS Product Catalog to learn more. The value of 3 is ice and 4 is snow. The data is updated daily.",
"help": ""
},
{
"name": "None",
"description": "",
"help": ""
}
],
"rasterTypeInfos": [
{
"name": "Raster Dataset",
"description": "Supports all ArcGIS Raster Datasets",
"help": ""
}
],
"mensurationCapabilities": "Basic",
"hasHistograms": true,
"hasColormap": false,
"hasRasterAttributeTable": false,
"minScale": 0,
"maxScale": 0,
"exportTilesAllowed": false,
"supportsStatistics": true,
"supportsAdvancedQueries": true,
"editFieldsInfo": null,
"ownershipBasedAccessControlForRasters": null,
"allowComputeTiePoints": false,
"useStandardizedQueries": true,
"advancedQueryCapabilities": {
"useStandardizedQueries": true,
"supportsStatistics": true,
"supportsOrderBy": true,
"supportsDistinct": true,
"supportsPagination": true
},
"spatialReference": {
"wkt2": "PROJCRS[\"Polar_Stereographic\",BASEGEOGCRS[\"GCS_D_Unknown\",DATUM[\"D_unknown\",ELLIPSOID[\"Unknown\",6378137.0,291.5053473491773,LENGTHUNIT[\"Meter\",1.0]]],PRIMEM[\"Greenwich\",0.0,ANGLEUNIT[\"Degree\",0.0174532925199433]],CS[ellipsoidal,2],ANGLEUNIT[\"Degree\",0.0174532925199433]],CONVERSION[\"Stereographic_North_Pole\",METHOD[\"Stereographic_North_Pole\"],PARAMETER[\"false_easting\",0.0,LENGTHUNIT[\"Meter\",1.0]],PARAMETER[\"false_northing\",0.0,LENGTHUNIT[\"Meter\",1.0]],PARAMETER[\"central_meridian\",-80.0,ANGLEUNIT[\"Degree\",0.0174532925199433]],PARAMETER[\"standard_parallel_1\",60.0,ANGLEUNIT[\"Degree\",0.0174532925199433]]],CS[Cartesian,2],AXIS[\"Easting (X)\",east,ORDER[1]],AXIS[\"Northing (Y)\",north,ORDER[2]],LENGTHUNIT[\"Meter\",1.0]]",
"wkt": "PROJCS[\"Polar_Stereographic\",GEOGCS[\"GCS_D_Unknown\",DATUM[\"D_unknown\",SPHEROID[\"Unknown\",6378137.0,291.5053473491773]],PRIMEM[\"Greenwich\",0.0],UNIT[\"Degree\",0.0174532925199433]],PROJECTION[\"Stereographic_North_Pole\"],PARAMETER[\"false_easting\",0.0],PARAMETER[\"false_northing\",0.0],PARAMETER[\"central_meridian\",-80.0],PARAMETER[\"standard_parallel_1\",60.0],UNIT[\"Meter\",1.0]]"
},
"resampling": false
}