View In:
ArcGIS JavaScript
ArcGIS Online Map Viewer
ArcGIS Earth
Service Description: U.S. National Ice Center’s IMS Snow and Ice Image Service contains data from the Interactive Multisensor Snow and Ice Mapping System (IMS). IMS is an operational software package used to demarcate the presence of snow and ice across the entire northern hemisphere. This software enables qualified analysts to access multiple sets of remotely sensed data in order to create and distribute 1 km resolution maps of snow and ice used primarily as a data assimilation observation by numerical environmental modeling. IMS creates a North American analysis valid at 18 UTC as well as the entire northern hemisphere analysis visualized within this service, valid at 00 UTC. Imagery utilized includes synthetic aperture radar (SAR), geostationary imagery such as GOES, polar orbiting imagery such as VIIRS, other optical or infrared sensors prioritized by recency and image quality, and application of an understanding of conditions gained from surface stations, radar, and forecast weather conditions in order to create a product valid at approximately 00 UTC. More information on IMS as well as access to products can be found at https://usicecenter.gov/Products/ImsHome or from the IMS FTP archival partners at the National Snow and Ice Data Center (NSIDC) at https://nsidc.org/data/g02156/. The Digital Object Identifier (DOI) for IMS information is 10.7265/N52R3PMC.
Update Frequency: The data in this service updates daily at 00 UTC.
Link to metadata
Questions/Concerns about the service, please contact the DSS GIS team
For questions about the underlying data or other ice datasets, please see https://usicecenter.gov/Contact.
Time Information:
This service is not time enabled.
Name: obs/usnic_ims_snow_ice_1km
Description: U.S. National Ice Center’s IMS Snow and Ice Image Service contains data from the Interactive Multisensor Snow and Ice Mapping System (IMS). IMS is an operational software package used to demarcate the presence of snow and ice across the entire northern hemisphere. This software enables qualified analysts to access multiple sets of remotely sensed data in order to create and distribute 1 km resolution maps of snow and ice used primarily as a data assimilation observation by numerical environmental modeling. IMS creates a North American analysis valid at 18 UTC as well as the entire northern hemisphere analysis visualized within this service, valid at 00 UTC. Imagery utilized includes synthetic aperture radar (SAR), geostationary imagery such as GOES, polar orbiting imagery such as VIIRS, other optical or infrared sensors prioritized by recency and image quality, and application of an understanding of conditions gained from surface stations, radar, and forecast weather conditions in order to create a product valid at approximately 00 UTC. More information on IMS as well as access to products can be found at https://usicecenter.gov/Products/ImsHome or from the IMS FTP archival partners at the National Snow and Ice Data Center (NSIDC) at https://nsidc.org/data/g02156/. The Digital Object Identifier (DOI) for IMS information is 10.7265/N52R3PMC.
Update Frequency: The data in this service updates daily at 00 UTC.
Link to metadata
Questions/Concerns about the service, please contact the DSS GIS team
For questions about the underlying data or other ice datasets, please see https://usicecenter.gov/Contact.
Time Information:
This service is not time enabled.
Single Fused Map Cache: false
Extent:
XMin: -12288000
YMin: -12288000
XMax: 12288000
YMax: 12302000
Spatial Reference: PROJCS["Polar_Stereographic",GEOGCS["GCS_D_Unknown",DATUM["D_unknown",SPHEROID["Unknown",6378137.0,291.5053473491773]],PRIMEM["Greenwich",0.0],UNIT["Degree",0.0174532925199433]],PROJECTION["Stereographic_North_Pole"],PARAMETER["false_easting",0.0],PARAMETER["false_northing",0.0],PARAMETER["central_meridian",-80.0],PARAMETER["standard_parallel_1",60.0],UNIT["Meter",1.0]]
Initial Extent:
XMin: -12288000
YMin: -12288000
XMax: 12288000
YMax: 12302000
Spatial Reference: PROJCS["Polar_Stereographic",GEOGCS["GCS_D_Unknown",DATUM["D_unknown",SPHEROID["Unknown",6378137.0,291.5053473491773]],PRIMEM["Greenwich",0.0],UNIT["Degree",0.0174532925199433]],PROJECTION["Stereographic_North_Pole"],PARAMETER["false_easting",0.0],PARAMETER["false_northing",0.0],PARAMETER["central_meridian",-80.0],PARAMETER["standard_parallel_1",60.0],UNIT["Meter",1.0]]
Full Extent:
XMin: -12288000
YMin: -12288000
XMax: 12288000
YMax: 12302000
Spatial Reference: PROJCS["Polar_Stereographic",GEOGCS["GCS_D_Unknown",DATUM["D_unknown",SPHEROID["Unknown",6378137.0,291.5053473491773]],PRIMEM["Greenwich",0.0],UNIT["Degree",0.0174532925199433]],PROJECTION["Stereographic_North_Pole"],PARAMETER["false_easting",0.0],PARAMETER["false_northing",0.0],PARAMETER["central_meridian",-80.0],PARAMETER["standard_parallel_1",60.0],UNIT["Meter",1.0]]
Pixel Size X: 1000.0
Pixel Size Y: 1000.0
Band Count: 1
Pixel Type: U8
RasterFunction Infos: {"rasterFunctionInfos": [
{
"name": "rft_usnic_ims_1km",
"description": "usnic_ims_1km-usnic_ims_1km- usnic_ims_1km - The Raster Map Function for Interactive Multisensor Snow and Ice Mapping System (IMS) is an operational software package used to demarcate the presence of snow and ice across the entire northern hemisphere. This software enables qualified analysts to access multiple sets of remotely sensed data in order to create and distribute 1 km resolution maps of snow and ice. The data is used for operational weather model initializations as well as other NOAA programs, and academic studies. The Digital Object Identifier for IMS information is 10.7265/N52R3PMC . Please visit our IMS information page or IMS Product Catalog to learn more. The value of 3 is ice and 4 is snow. The data is updated daily.",
"help": ""
},
{
"name": "None",
"description": "",
"help": ""
}
]}
Mensuration Capabilities: Basic
Inspection Capabilities:
Has Histograms: true
Has Colormap: false
Has Multi Dimensions : false
Rendering Rule:
Min Scale: 0
Max Scale: 0
Resampling: false
Copyright Text: National Oceanic & Atmospheric Administration, U.S. National Ice Center, National Weather Service
Service Data Type: esriImageServiceDataTypeGeneric
Min Values: 0
Max Values: 4
Mean Values: 1.0480508969894757
Standard Deviation Values: 0.8430619030428826
Object ID Field: objectid
Fields:
-
objectid
(
type: esriFieldTypeOID, alias: objectid
)
-
name
(
type: esriFieldTypeString, alias: name, length: 200
)
-
minps
(
type: esriFieldTypeDouble, alias: minps
)
-
maxps
(
type: esriFieldTypeDouble, alias: maxps
)
-
lowps
(
type: esriFieldTypeDouble, alias: lowps
)
-
highps
(
type: esriFieldTypeDouble, alias: highps
)
-
category
(
type: esriFieldTypeInteger, alias: category
, Coded Values:
[0: Unknown]
, [1: Primary]
, [2: Overview]
, ...6 more...
)
-
tag
(
type: esriFieldTypeString, alias: tag, length: 100
)
-
groupname
(
type: esriFieldTypeString, alias: groupname, length: 100
)
-
productname
(
type: esriFieldTypeString, alias: productname, length: 100
)
-
centerx
(
type: esriFieldTypeDouble, alias: centerx
)
-
centery
(
type: esriFieldTypeDouble, alias: centery
)
-
zorder
(
type: esriFieldTypeInteger, alias: zorder
)
-
shape
(
type: esriFieldTypeGeometry, alias: shape
)
-
idp_ingestdate
(
type: esriFieldTypeDate, alias: GIS Ingest Date, length: 8
)
-
idp_filedate
(
type: esriFieldTypeDate, alias: GIS File Date, length: 8
)
-
st_area(shape)
(
type: esriFieldTypeDouble, alias: st_area(shape)
)
-
st_perimeter(shape)
(
type: esriFieldTypeDouble, alias: st_perimeter(shape)
)
Default Mosaic Method: Northwest
Allowed Mosaic Methods: NorthWest,Center,LockRaster,ByAttribute,Nadir,Viewpoint,Seamline,None
SortField:
SortValue: null
Mosaic Operator: First
Default Compression Quality: 75
Default Resampling Method: Nearest
Max Record Count: 1000
Max Image Height: 4100
Max Image Width: 15000
Max Download Image Count: 20
Max Mosaic Image Count: 20
Allow Raster Function: true
Allow Copy: true
Allow Analysis: true
Allow Compute TiePoints: false
Supports Statistics: true
Supports Advanced Queries: true
Use StandardizedQueries: true
Raster Type Infos:
Name: Raster Dataset
Description: Supports all ArcGIS Raster Datasets
Help:
Has Raster Attribute Table: false
Edit Fields Info: null
Ownership Based AccessControl For Rasters: null
Child Resources:
Info
Histograms
Statistics
Key Properties
Legend
Raster Function Infos
Supported Operations:
Export Image
Query
Identify
Download Rasters
Get Image Url
Measure
Compute Histograms
Compute Statistics Histograms
Get Samples
Compute Class Statistics
Query GPS Info
Find Images
Image to Map
Map to Image
Measure from Image
Image to Map Multiray
Query Boundary
Compute Pixel Location
Compute Angles
Validate
Project