How to use this service<\/a> \n<\/p> Time Information: <\/b> This image service is not time enabled.\n\n<\/span><\/p><\/div><\/div>",
"extent": {
"xmin": -175.99999999985712,
"ymin": 9.999999999857096,
"xmax": -59.999999999857124,
"ymax": 71.9999999998571,
"spatialReference": {
"wkt2": "GEOGCRS[\"GCS_Coordinate_System_imported_from_GRIB_file\",DATUM[\"D_unknown\",ELLIPSOID[\"Spheroid_imported_from_GRIB_file\",6378160.0,298.2539162964695,LENGTHUNIT[\"Meter\",1.0]]],PRIMEM[\"Greenwich\",0.0,ANGLEUNIT[\"Degree\",0.0174532925199433]],CS[ellipsoidal,2],AXIS[\"Longitude (lon)\",east,ORDER[1]],AXIS[\"Latitude (lat)\",north,ORDER[2]],ANGLEUNIT[\"Degree\",0.0174532925199433]]",
"wkt": "GEOGCS[\"GCS_Coordinate_System_imported_from_GRIB_file\",DATUM[\"D_unknown\",SPHEROID[\"Spheroid_imported_from_GRIB_file\",6378160.0,298.2539162964695]],PRIMEM[\"Greenwich\",0.0],UNIT[\"Degree\",0.0174532925199433]]"
}
},
"initialExtent": {
"xmin": -175.99999999985712,
"ymin": 9.999999999857096,
"xmax": -59.999999999857124,
"ymax": 71.9999999998571,
"spatialReference": {
"wkt2": "GEOGCRS[\"GCS_Coordinate_System_imported_from_GRIB_file\",DATUM[\"D_unknown\",ELLIPSOID[\"Spheroid_imported_from_GRIB_file\",6378160.0,298.2539162964695,LENGTHUNIT[\"Meter\",1.0]]],PRIMEM[\"Greenwich\",0.0,ANGLEUNIT[\"Degree\",0.0174532925199433]],CS[ellipsoidal,2],AXIS[\"Longitude (lon)\",east,ORDER[1]],AXIS[\"Latitude (lat)\",north,ORDER[2]],ANGLEUNIT[\"Degree\",0.0174532925199433]]",
"wkt": "GEOGCS[\"GCS_Coordinate_System_imported_from_GRIB_file\",DATUM[\"D_unknown\",SPHEROID[\"Spheroid_imported_from_GRIB_file\",6378160.0,298.2539162964695]],PRIMEM[\"Greenwich\",0.0],UNIT[\"Degree\",0.0174532925199433]]"
}
},
"fullExtent": {
"xmin": -175.99999999985712,
"ymin": 9.999999999857096,
"xmax": -59.999999999857124,
"ymax": 71.9999999998571,
"spatialReference": {
"wkt2": "GEOGCRS[\"GCS_Coordinate_System_imported_from_GRIB_file\",DATUM[\"D_unknown\",ELLIPSOID[\"Spheroid_imported_from_GRIB_file\",6378160.0,298.2539162964695,LENGTHUNIT[\"Meter\",1.0]]],PRIMEM[\"Greenwich\",0.0,ANGLEUNIT[\"Degree\",0.0174532925199433]],CS[ellipsoidal,2],AXIS[\"Longitude (lon)\",east,ORDER[1]],AXIS[\"Latitude (lat)\",north,ORDER[2]],ANGLEUNIT[\"Degree\",0.0174532925199433]]",
"wkt": "GEOGCS[\"GCS_Coordinate_System_imported_from_GRIB_file\",DATUM[\"D_unknown\",SPHEROID[\"Spheroid_imported_from_GRIB_file\",6378160.0,298.2539162964695]],PRIMEM[\"Greenwich\",0.0],UNIT[\"Degree\",0.0174532925199433]]"
}
},
"sortableFields": "idp_filedate,idp_ingestdate,idp_validendtime,st_area(shape),st_perimeter(shape)",
"bandCount": 1,
"pixelType": "F64",
"minValues": [
-3
],
"maxValues": [
99.80000305175781
],
"meanValues": [
-1.0200207938365102
],
"stdvValues": [
1.5369109765332054
],
"hasMultidimensions": true,
"pixelSizeX": 0.005,
"pixelSizeY": 0.005,
"meanPixelSize": 556.5994610950077,
"datasetFormat": "AMD",
"uncompressedSize": 2301440000,
"blockWidth": 2048,
"blockHeight": 256,
"compressionType": "None",
"bandNames": [
"Band_1"
],
"allowCopy": true,
"allowAnalysis": true,
"itemAccess": false,
"defaultVariable": "",
"inspectionCapabilities": "",
"minPixelSize": 0,
"maxPixelSize": 0,
"copyrightText": "NOAA/NWS",
"serviceDataType": "esriImageServiceDataTypeScientific",
"serviceSourceType": "esriImageServiceSourceTypeMosaicDataset",
"objectIdField": "objectid",
"fields": [
{
"name": "objectid",
"type": "esriFieldTypeOID",
"alias": "objectid",
"domain": null
},
{
"name": "name",
"type": "esriFieldTypeString",
"alias": "Name",
"domain": null,
"length": 200
},
{
"name": "category",
"type": "esriFieldTypeInteger",
"alias": "category",
"domain": {
"type": "codedValue",
"name": "MosaicCatalogItemCategoryDomain",
"description": "Catalog item categories.",
"codedValues": [
{
"name": "Unknown",
"code": 0
},
{
"name": "Primary",
"code": 1
},
{
"name": "Overview",
"code": 2
},
{
"name": "Unprocessed Overview",
"code": 3
},
{
"name": "Partial Overview",
"code": 4
},
{
"name": "Inactive",
"code": 5
},
{
"name": "Uploaded",
"code": 253
},
{
"name": "Incomplete",
"code": 254
},
{
"name": "Custom",
"code": 255
}
],
"mergePolicy": "esriMPTDefaultValue",
"splitPolicy": "esriSPTDefaultValue"
}
},
{
"name": "idp_subset",
"type": "esriFieldTypeString",
"alias": "GIS Subset",
"domain": null,
"length": 50
},
{
"name": "idp_filedate",
"type": "esriFieldTypeDate",
"alias": "GIS File Date",
"domain": null,
"length": 8
},
{
"name": "idp_ingestdate",
"type": "esriFieldTypeDate",
"alias": "GIS Ingest Date",
"domain": null,
"length": 8
},
{
"name": "idp_validendtime",
"type": "esriFieldTypeDate",
"alias": "Period End Time",
"domain": null,
"length": 8
},
{
"name": "shape",
"type": "esriFieldTypeGeometry",
"alias": "shape",
"domain": null
},
{
"name": "st_area(shape)",
"type": "esriFieldTypeDouble",
"alias": "st_area(shape)",
"domain": null
},
{
"name": "st_perimeter(shape)",
"type": "esriFieldTypeDouble",
"alias": "st_perimeter(shape)",
"domain": null
}
],
"capabilities": "Catalog,Mensuration,Pixels,Download,Image,Metadata",
"defaultMosaicMethod": "ByAttribute",
"allowedMosaicMethods": "ByAttribute,NorthWest,Center,LockRaster,Nadir,Viewpoint,Seamline,None",
"sortField": "StdTime",
"sortValue": "0",
"sortAscending": false,
"mosaicOperator": "First",
"maxDownloadSizeLimit": 2048,
"defaultCompressionQuality": 75,
"defaultResamplingMethod": "Bilinear",
"maxImageHeight": 4100,
"maxImageWidth": 15000,
"maxRecordCount": 1000,
"maxDownloadImageCount": 20,
"maxMosaicImageCount": 40,
"allowRasterFunction": true,
"rasterFunctionInfos": [
{
"name": "rft_1hr",
"description": "rft for 1 hr mrms data",
"help": ""
},
{
"name": "rft_3hr",
"description": "rft for 3 hr mrms data",
"help": ""
},
{
"name": "rft_6hr",
"description": "rft for 6 hr mrms data",
"help": ""
},
{
"name": "rft_12hr",
"description": "rft for 12 hr mrms data",
"help": ""
},
{
"name": "rft_24hr",
"description": "rft for 24 hr mrms data",
"help": ""
},
{
"name": "rft_48hr",
"description": "rft for 48 hr mrms data",
"help": ""
},
{
"name": "rft_72hr",
"description": "rft for 72 hr mrms data",
"help": ""
},
{
"name": "None",
"description": "A No-Op Function.",
"help": ""
},
{
"name": "unknown@gpml",
"description": "A raster function template.",
"help": ""
}
],
"rasterTypeInfos": [
{
"name": "Raster Dataset",
"description": "Supports all ArcGIS Raster Datasets",
"help": ""
}
],
"mensurationCapabilities": "Basic",
"hasHistograms": true,
"hasColormap": false,
"hasRasterAttributeTable": false,
"minScale": 0,
"maxScale": 0,
"exportTilesAllowed": false,
"supportsStatistics": true,
"supportsAdvancedQueries": true,
"editFieldsInfo": null,
"ownershipBasedAccessControlForRasters": null,
"allowComputeTiePoints": false,
"useStandardizedQueries": true,
"advancedQueryCapabilities": {
"useStandardizedQueries": true,
"supportsStatistics": true,
"supportsOrderBy": true,
"supportsDistinct": true,
"supportsPagination": true
},
"spatialReference": {
"wkt2": "GEOGCRS[\"GCS_Coordinate_System_imported_from_GRIB_file\",DATUM[\"D_unknown\",ELLIPSOID[\"Spheroid_imported_from_GRIB_file\",6378160.0,298.2539162964695,LENGTHUNIT[\"Meter\",1.0]]],PRIMEM[\"Greenwich\",0.0,ANGLEUNIT[\"Degree\",0.0174532925199433]],CS[ellipsoidal,2],AXIS[\"Longitude (lon)\",east,ORDER[1]],AXIS[\"Latitude (lat)\",north,ORDER[2]],ANGLEUNIT[\"Degree\",0.0174532925199433]]",
"wkt": "GEOGCS[\"GCS_Coordinate_System_imported_from_GRIB_file\",DATUM[\"D_unknown\",SPHEROID[\"Spheroid_imported_from_GRIB_file\",6378160.0,298.2539162964695]],PRIMEM[\"Greenwich\",0.0],UNIT[\"Degree\",0.0174532925199433]]"
},
"resampling": false
}