View In:
ArcGIS JavaScript
ArcGIS Online Map Viewer
ArcGIS Earth
Service Description: NDGD Air Quality Forecast Guidance for Surface Smoke Concentration Imagery Service's concentration units are micrograms per cubic feet. For further information please visit our website at
https://vlab.noaa.gov/web/osti-modeling/air-quality . This is a time enabled image service with WMS and WCS capabilities enabled. Forecast guidance is issued daily at 6Z model runs. Forecast information is provided in one hour intervals for the subsequent 48-hour period. Client applications may require users to specify time range parameters to view time sliced or loop data.
Update Frequency: The data in this image service updates twice a day at 6Z and at 12Z.
Link to graphical web page: https://airquality.weather.gov/?element=smokes01
Link to data download (grib2): https://tgftp.nws.noaa.gov/SL.us008001/ST.opnl/DF.gr2/DC.ndgd/GT.aq/
Link to metadata
Questions/Concerns about the service, please contact the DISS GIS team
Time Information: This map is time-enabled.
Name: air_quality/ndgd_smoke_sfc_1hr_avg_time
Description: NDGD Air Quality Forecast Guidance for Surface Smoke Concentration Imagery Service's concentration units are micrograms per cubic feet. For further information please visit our website at
https://vlab.noaa.gov/web/osti-modeling/air-quality . This is a time enabled image service with WMS and WCS capabilities enabled. Forecast guidance is issued daily at 6Z model runs. Forecast information is provided in one hour intervals for the subsequent 48-hour period. Client applications may require users to specify time range parameters to view time sliced or loop data.
Update Frequency: The data in this image service updates twice a day at 6Z and at 12Z.
Link to graphical web page: https://airquality.weather.gov/?element=smokes01
Link to data download (grib2): https://tgftp.nws.noaa.gov/SL.us008001/ST.opnl/DF.gr2/DC.ndgd/GT.aq/
Link to metadata
Questions/Concerns about the service, please contact the DISS GIS team
Time Information: This map is time-enabled.
Single Fused Map Cache: false
Extent:
XMin: -2.0037507842788246E7
YMin: 1365614.2740680221
XMax: 2.001629722820412E7
YMax: 1.3108231905426845E7
Spatial Reference: 102100
(3857)
Initial Extent:
XMin: -2.0037507842788246E7
YMin: 1365614.2740680221
XMax: 2.001629722820412E7
YMax: 1.3108231905426845E7
Spatial Reference: 102100
(3857)
Full Extent:
XMin: -2.0037507842788246E7
YMin: 1365614.2740680221
XMax: 2.001629722820412E7
YMax: 1.3108231905426845E7
Spatial Reference: 102100
(3857)
Time Info:
Start Time Field: idp_validtime
End Time Field: idp_validendtime
Time Extent:
[2025/11/13 03:00:00 UTC, 2025/11/15 06:00:00 UTC]
Time Reference:
N/A
Pixel Size X: 2663.329015958
Pixel Size Y: 2663.329015958
Band Count: 1
Pixel Type: F32
RasterFunction Infos: {"rasterFunctionInfos": [
{
"name": "smoke_don_0921",
"description": "A raster function template.",
"help": ""
},
{
"name": "None",
"description": "Make a Raster or Raster Dataset into a Function Raster Dataset.",
"help": ""
}
]}
Mensuration Capabilities:
Inspection Capabilities:
Has Histograms: true
Has Colormap: false
Has Multi Dimensions : false
Rendering Rule:
Min Scale: 0
Max Scale: 0
Resampling: false
Copyright Text: National Oceanic and Atmospheric Administration, NOAA, National Weather Service, NWS
Service Data Type: esriImageServiceDataTypeGeneric
Min Values: 0
Max Values: 1.061919974176817E-7
Mean Values: 2.1011014880994782E-10
Standard Deviation Values: 9.479096576961645E-10
Object ID Field: objectid
Fields:
-
objectid
(
type: esriFieldTypeOID, alias: objectid
)
-
name
(
type: esriFieldTypeString, alias: name, length: 200
)
-
category
(
type: esriFieldTypeInteger, alias: category
, Coded Values:
[0: Unknown]
, [1: Primary]
, [2: Overview]
, ...6 more...
)
-
shape
(
type: esriFieldTypeGeometry, alias: shape
)
-
idp_ingestdate
(
type: esriFieldTypeDate, alias: GIS Ingest Date, length: 8
)
-
idp_filedate
(
type: esriFieldTypeDate, alias: GIS File Date, length: 8
)
-
idp_subset
(
type: esriFieldTypeString, alias: GIS Subset, length: 50
)
-
idp_validtime
(
type: esriFieldTypeDate, alias: Valid Time, length: 8
)
-
idp_validendtime
(
type: esriFieldTypeDate, alias: Valid End Time, length: 8
)
-
idp_fcst_hour
(
type: esriFieldTypeDouble, alias: Forecast Hour
)
-
idp_time_series
(
type: esriFieldTypeSmallInteger, alias: Time Series
)
-
idp_issueddate
(
type: esriFieldTypeDate, alias: Reference Time, length: 8
)
-
st_area(shape)
(
type: esriFieldTypeDouble, alias: st_area(shape)
)
-
st_perimeter(shape)
(
type: esriFieldTypeDouble, alias: st_perimeter(shape)
)
Default Mosaic Method: ByAttribute
Allowed Mosaic Methods: ByAttribute,NorthWest,Center,LockRaster,Nadir,Viewpoint,Seamline,None
SortField: name
SortValue: 0
Mosaic Operator: First
Default Compression Quality: 75
Default Resampling Method: Bilinear
Max Record Count: 1000
Max Image Height: 4100
Max Image Width: 15000
Max Download Image Count: 20
Max Mosaic Image Count: 20
Allow Raster Function: true
Allow Copy: true
Allow Analysis: true
Allow Compute TiePoints: false
Supports Statistics: true
Supports Advanced Queries: true
Use StandardizedQueries: true
Raster Type Infos:
Name: Raster Dataset
Description: Supports all ArcGIS Raster Datasets
Help:
Has Raster Attribute Table: false
Edit Fields Info: null
Ownership Based AccessControl For Rasters: null
Child Resources:
Info
Histograms
Statistics
Key Properties
Legend
Raster Function Infos
Supported Operations:
Export Image
Query
Identify
Download Rasters
Get Image Url
Measure
Compute Histograms
Compute Statistics Histograms
Get Samples
Compute Class Statistics
Query GPS Info
Find Images
Image to Map
Map to Image
Measure from Image
Image to Map Multiray
Query Boundary
Compute Pixel Location
Compute Angles
Validate
Project