{ "currentVersion": 10.91, "serviceDescription": "Air Quality Forecast Guidance for hourly average PM2.5 concentration after post-processing to reduce biases in numerical model guidance. Concentration units are micrograms per cubic meter. For further information please visit our website at https://www.weather.gov/sti/stimodeling_airquality <\/a>. This is a time enabled image service with WMS and WCS capabilities enabled. Forecast guidance is issued twice daily based on 6Z and 12Z model runs. Forecast information is provided in one hour intervals for the subsequent 48-hour period. Client applications may require users to specify time range parameters to view time sliced or loop data.

Link to data download (grib2): https://tgftp.nws.noaa.gov/SL.us008001/ST.opnl/DF.gr2/DC.ndgd/GT.aq/\n<\/a><\/p>
Link to metadata <\/a><\/p>
Questions/Concerns about the service, please contact the DISS GIS<\/a> team <\/p>
Time Information: <\/b>This map is time-enabled.<\/p>", "name": "air_quality/ndgd_apm25_hr01_bc", "description": "Air Quality Forecast Guidance for hourly average PM2.5 concentration after post-processing to reduce biases in numerical model guidance. Concentration units are micrograms per cubic meter. For further information please visit our website at https://www.weather.gov/sti/stimodeling_airquality <\/a>. This is a time enabled image service with WMS and WCS capabilities enabled. Forecast guidance is issued twice daily based on 6Z and 12Z model runs. Forecast information is provided in one hour intervals for the subsequent 48-hour period. Client applications may require users to specify time range parameters to view time sliced or loop data.

Link to data download (grib2): https://tgftp.nws.noaa.gov/SL.us008001/ST.opnl/DF.gr2/DC.ndgd/GT.aq/\n<\/a><\/p>
Link to metadata <\/a><\/p>
Questions/Concerns about the service, please contact the DISS GIS<\/a> team <\/p>
Time Information: <\/b>This map is time-enabled.<\/p>", "extent": { "xmin": -1.7018322820794784E7, "ymin": 1357850.0027587563, "xmax": -5494071.8207947835, "ymax": 8707163.002758756, "spatialReference": { "wkid": 102100, "latestWkid": 3857 } }, "initialExtent": { "xmin": -1.7018322820794784E7, "ymin": 1357850.0027587563, "xmax": -5494071.8207947835, "ymax": 8707163.002758756, "spatialReference": { "wkid": 102100, "latestWkid": 3857 } }, "fullExtent": { "xmin": -1.7018322820794784E7, "ymin": 1357850.0027587563, "xmax": -5494071.8207947835, "ymax": 8707163.002758756, "spatialReference": { "wkid": 102100, "latestWkid": 3857 } }, "hasMultidimensions": false, "timeInfo": { "startTimeField": "idp_validtime", "endTimeField": "idp_validendtime", "timeExtent": [ 1714654800000, 1715000399000 ], "timeReference": null }, "pixelSizeX": 5079, "pixelSizeY": 5079, "datasetFormat": "AMD", "uncompressedSize": 6566486, "blockWidth": 2048, "blockHeight": 256, "compressionType": "None", "bandNames": [ "Band_1" ], "allowCopy": true, "allowAnalysis": true, "bandCount": 1, "pixelType": "S16", "minPixelSize": 0, "maxPixelSize": 0, "copyrightText": "NOAA/NWS", "serviceDataType": "esriImageServiceDataTypeGeneric", "serviceSourceType": "esriImageServiceSourceTypeMosaicDataset", "minValues": [ 0.1846289038658142 ], "maxValues": [ 239.53125 ], "meanValues": [ 4.0653430317966475 ], "stdvValues": [ 3.251568484242794 ], "objectIdField": "objectid", "fields": [ { "name": "objectid", "type": "esriFieldTypeOID", "alias": "objectid", "domain": null }, { "name": "name", "type": "esriFieldTypeString", "alias": "name", "domain": null, "length": 200 }, { "name": "minps", "type": "esriFieldTypeDouble", "alias": "minps", "domain": null }, { "name": "maxps", "type": "esriFieldTypeDouble", "alias": "maxps", "domain": null }, { "name": "lowps", "type": "esriFieldTypeDouble", "alias": "lowps", "domain": null }, { "name": "highps", "type": "esriFieldTypeDouble", "alias": "highps", "domain": null }, { "name": "category", "type": "esriFieldTypeInteger", "alias": "category", "domain": { "type": "codedValue", "name": "MosaicCatalogItemCategoryDomain", "description": "Catalog item categories.", "codedValues": [ { "name": "Unknown", "code": 0 }, { "name": "Primary", "code": 1 }, { "name": "Overview", "code": 2 }, { "name": "Unprocessed Overview", "code": 3 }, { "name": "Partial Overview", "code": 4 }, { "name": "Inactive", "code": 5 }, { "name": "Uploaded", "code": 253 }, { "name": "Incomplete", "code": 254 }, { "name": "Custom", "code": 255 } ], "mergePolicy": "esriMPTDefaultValue", "splitPolicy": "esriSPTDefaultValue" } }, { "name": "tag", "type": "esriFieldTypeString", "alias": "tag", "domain": null, "length": 100 }, { "name": "groupname", "type": "esriFieldTypeString", "alias": "groupname", "domain": null, "length": 100 }, { "name": "productname", "type": "esriFieldTypeString", "alias": "productname", "domain": null, "length": 100 }, { "name": "centerx", "type": "esriFieldTypeDouble", "alias": "centerx", "domain": null }, { "name": "centery", "type": "esriFieldTypeDouble", "alias": "centery", "domain": null }, { "name": "zorder", "type": "esriFieldTypeInteger", "alias": "zorder", "domain": null }, { "name": "idp_source", "type": "esriFieldTypeString", "alias": "idp_source", "domain": null, "length": 50 }, { "name": "idp_subset", "type": "esriFieldTypeString", "alias": "idp_subset", "domain": null, "length": 50 }, { "name": "idp_filedate", "type": "esriFieldTypeDate", "alias": "idp_filedate", "domain": null, "length": 8 }, { "name": "idp_ingestdate", "type": "esriFieldTypeDate", "alias": "idp_ingestdate", "domain": null, "length": 8 }, { "name": "idp_current_forecast", "type": "esriFieldTypeInteger", "alias": "idp_current_forecast", "domain": null }, { "name": "idp_time_series", "type": "esriFieldTypeInteger", "alias": "idp_time_series", "domain": null }, { "name": "idp_issueddate", "type": "esriFieldTypeDate", "alias": "idp_issueddate", "domain": null, "length": 8 }, { "name": "idp_validtime", "type": "esriFieldTypeDate", "alias": "idp_validtime", "domain": null, "length": 8 }, { "name": "idp_validendtime", "type": "esriFieldTypeDate", "alias": "idp_validendtime", "domain": null, "length": 8 }, { "name": "idp_fcst_hour", "type": "esriFieldTypeInteger", "alias": "idp_fcst_hour", "domain": null }, { "name": "idp_grb_level", "type": "esriFieldTypeString", "alias": "idp_grb_level", "domain": null, "length": 50 }, { "name": "idp_grb_elem", "type": "esriFieldTypeString", "alias": "idp_grb_elem", "domain": null, "length": 255 }, { "name": "shape", "type": "esriFieldTypeGeometry", "alias": "shape", "domain": null }, { "name": "st_area(shape)", "type": "esriFieldTypeDouble", "alias": "st_area(shape)", "domain": null } ], "capabilities": "Catalog,Mensuration,Image,Metadata", "defaultMosaicMethod": "Northwest", "allowedMosaicMethods": "NorthWest,Center,LockRaster,ByAttribute,Nadir,Viewpoint,Seamline,None", "sortField": "", "sortValue": null, "sortAscending": true, "mosaicOperator": "First", "maxDownloadSizeLimit": 2048, "defaultCompressionQuality": 75, "defaultResamplingMethod": "Bilinear", "maxImageHeight": 4100, "maxImageWidth": 15000, "maxRecordCount": 1000, "maxDownloadImageCount": 20, "maxMosaicImageCount": 20, "allowRasterFunction": true, "rasterFunctionInfos": [ { "name": "apm25_color", "description": "A raster function template.", "help": "" }, { "name": "None", "description": "", "help": "" } ], "rasterTypeInfos": [ { "name": "Raster Dataset", "description": "Supports all ArcGIS Raster Datasets", "help": "" } ], "mensurationCapabilities": "Basic", "hasHistograms": true, "hasColormap": false, "hasRasterAttributeTable": false, "minScale": 0, "maxScale": 0, "exportTilesAllowed": false, "supportsStatistics": true, "supportsAdvancedQueries": true, "editFieldsInfo": null, "ownershipBasedAccessControlForRasters": null, "allowComputeTiePoints": false, "useStandardizedQueries": true, "advancedQueryCapabilities": { "useStandardizedQueries": true, "supportsStatistics": true, "supportsOrderBy": true, "supportsDistinct": true, "supportsPagination": true }, "spatialReference": { "wkid": 102100, "latestWkid": 3857 } }