{ "currentVersion": 11.3, "serviceDescription": "Air Quality Forecast Guidance for Hourly Average PM2.5 (µg/m^3) Concentration Image Service<\/b> is from the numerical prediction model. Concentration units are micrograms per cubic meter. For further information please visit our website at https://vlab.noaa.gov/web/osti-modeling/air-quality<\/a>. The data in this image service offers hourly operational predictions for fine particulate matter PM2.5 (µg/m^3) nationwide. This is a time enabled image service with WMS and WCS capabilities enabled. Forecast guidance is issued twice daily based on 6Z and 12Z model runs. Forecast information is provided in one hour intervals for the subsequent 48-hour period. Client applications may require users to specify time range parameters to view time sliced or loop data.

Update Frequency:<\/b> The data in this image service updates twice a day at 6Z and 12Z.<\/p>\n

Link to data download (grib2): https://tgftp.nws.noaa.gov/SL.us008001/ST.opnl/DF.gr2/DC.ndgd/GT.aq/\n<\/a><\/p>
Link to metadata <\/a><\/p>
Questions/Concerns about the service, please contact the DISS GIS<\/a> team <\/p>
Time Information: <\/b>This map is time-enabled.<\/p>", "name": "air_quality/ndgd_apm25_hr01", "description": "Air Quality Forecast Guidance for Hourly Average PM2.5 (µg/m^3) Concentration Image Service<\/b> is from the numerical prediction model. Concentration units are micrograms per cubic meter. For further information please visit our website at https://vlab.noaa.gov/web/osti-modeling/air-quality<\/a>. The data in this image service offers hourly operational predictions for fine particulate matter PM2.5 (µg/m^3) nationwide. This is a time enabled image service with WMS and WCS capabilities enabled. Forecast guidance is issued twice daily based on 6Z and 12Z model runs. Forecast information is provided in one hour intervals for the subsequent 48-hour period. Client applications may require users to specify time range parameters to view time sliced or loop data.

Update Frequency:<\/b> The data in this image service updates twice a day at 6Z and 12Z.<\/p>\n

Link to data download (grib2): https://tgftp.nws.noaa.gov/SL.us008001/ST.opnl/DF.gr2/DC.ndgd/GT.aq/\n<\/a><\/p>
Link to metadata <\/a><\/p>
Questions/Concerns about the service, please contact the DISS GIS<\/a> team <\/p>
Time Information: <\/b>This map is time-enabled.<\/p>", "extent": { "xmin": -1.7020488935694512E7, "ymin": 1365218.4954028241, "xmax": -5492812.410885051, "ymax": 8693572.113577709, "spatialReference": { "wkid": 102100, "latestWkid": 3857 } }, "initialExtent": { "xmin": -1.7020488935694512E7, "ymin": 1365218.4954028241, "xmax": -5492812.410885051, "ymax": 8693572.113577709, "spatialReference": { "wkid": 102100, "latestWkid": 3857 } }, "fullExtent": { "xmin": -1.7020488935694512E7, "ymin": 1365218.4954028241, "xmax": -5492812.410885051, "ymax": 8693572.113577709, "spatialReference": { "wkid": 102100, "latestWkid": 3857 } }, "sortableFields": "minps,maxps,lowps,highps,centerx,centery,zorder,st_area(shape),IDP_FileDate,IDP_IngestDate,IDP_Current_Forecast,IDP_Time_Series,IDP_IssuedDate,IDP_ValidTime,IDP_ValidEndTime,IDP_FCST_HOUR", "bandCount": 1, "pixelType": "F32", "minValues": [ 0.8501653075218201 ], "maxValues": [ 278.7801513671875 ], "meanValues": [ 4.061216129480056 ], "stdvValues": [ 3.3237901086702677 ], "hasMultidimensions": false, "timeInfo": { "startTimeField": "idp_validtime", "endTimeField": "idp_validendtime", "timeExtent": [ 1773579600000, 1773835200000 ], "timeReference": null }, "pixelSizeX": 6295.836441731, "pixelSizeY": 6295.836441731, "meanPixelSize": 6295.836441731, "datasetFormat": "AMD", "uncompressedSize": 8525136, "blockWidth": 2048, "blockHeight": 256, "compressionType": "None", "bandNames": [ "Band_1" ], "allowCopy": true, "allowAnalysis": true, "itemAccess": false, "inspectionCapabilities": "", "minPixelSize": 0, "maxPixelSize": 0, "copyrightText": "National Oceanic and Atmospheric Administration, NOAA, National Weather Service, NWS", "serviceDataType": "esriImageServiceDataTypeGeneric", "serviceSourceType": "esriImageServiceSourceTypeMosaicDataset", "objectIdField": "objectid", "fields": [ { "name": "objectid", "type": "esriFieldTypeOID", "alias": "objectid", "domain": null }, { "name": "name", "type": "esriFieldTypeString", "alias": "name", "domain": null, "length": 200 }, { "name": "minps", "type": "esriFieldTypeDouble", "alias": "minps", "domain": null }, { "name": "maxps", "type": "esriFieldTypeDouble", "alias": "maxps", "domain": null }, { "name": "lowps", "type": "esriFieldTypeDouble", "alias": "lowps", "domain": null }, { "name": "highps", "type": "esriFieldTypeDouble", "alias": "highps", "domain": null }, { "name": "category", "type": "esriFieldTypeInteger", "alias": "category", "domain": { "type": "codedValue", "name": "MosaicCatalogItemCategoryDomain", "description": "Catalog item categories.", "codedValues": [ { "name": "Unknown", "code": 0 }, { "name": "Primary", "code": 1 }, { "name": "Overview", "code": 2 }, { "name": "Unprocessed Overview", "code": 3 }, { "name": "Partial Overview", "code": 4 }, { "name": "Inactive", "code": 5 }, { "name": "Uploaded", "code": 253 }, { "name": "Incomplete", "code": 254 }, { "name": "Custom", "code": 255 } ], "mergePolicy": "esriMPTDefaultValue", "splitPolicy": "esriSPTDefaultValue" } }, { "name": "tag", "type": "esriFieldTypeString", "alias": "tag", "domain": null, "length": 100 }, { "name": "groupname", "type": "esriFieldTypeString", "alias": "groupname", "domain": null, "length": 100 }, { "name": "productname", "type": "esriFieldTypeString", "alias": "productname", "domain": null, "length": 100 }, { "name": "centerx", "type": "esriFieldTypeDouble", "alias": "centerx", "domain": null }, { "name": "centery", "type": "esriFieldTypeDouble", "alias": "centery", "domain": null }, { "name": "zorder", "type": "esriFieldTypeInteger", "alias": "zorder", "domain": null }, { "name": "shape", "type": "esriFieldTypeGeometry", "alias": "shape", "domain": null }, { "name": "idp_ingestdate", "type": "esriFieldTypeDate", "alias": "GIS Ingest Date", "domain": null, "length": 8 }, { "name": "idp_filedate", "type": "esriFieldTypeDate", "alias": "GIS File Date", "domain": null, "length": 8 }, { "name": "idp_subset", "type": "esriFieldTypeString", "alias": "GIS Subset", "domain": null, "length": 50 }, { "name": "idp_validtime", "type": "esriFieldTypeDate", "alias": "Valid Time", "domain": null, "length": 8 }, { "name": "idp_validendtime", "type": "esriFieldTypeDate", "alias": "Valid End Time", "domain": null, "length": 8 }, { "name": "idp_fcst_hour", "type": "esriFieldTypeDouble", "alias": "Forecast Hour", "domain": null }, { "name": "idp_time_series", "type": "esriFieldTypeSmallInteger", "alias": "Forecast Hour", "domain": null }, { "name": "idp_issueddate", "type": "esriFieldTypeDate", "alias": "Reference Time", "domain": null, "length": 8 }, { "name": "st_area(shape)", "type": "esriFieldTypeDouble", "alias": "st_area(shape)", "domain": null } ], "capabilities": "Catalog,Mensuration,Pixels,Download,Image,Metadata", "defaultMosaicMethod": "Northwest", "allowedMosaicMethods": "NorthWest,Center,LockRaster,ByAttribute,Nadir,Viewpoint,Seamline,None", "sortField": "", "sortValue": null, "sortAscending": true, "mosaicOperator": "First", "maxDownloadSizeLimit": 2048, "defaultCompressionQuality": 75, "defaultResamplingMethod": "Bilinear", "maxImageHeight": 4100, "maxImageWidth": 15000, "maxRecordCount": 1000, "maxDownloadImageCount": 20, "maxMosaicImageCount": 20, "allowRasterFunction": true, "rasterFunctionInfos": [ { "name": "apm25_color", "description": "A raster function template.", "help": "" }, { "name": "None", "description": "Make a Raster or Raster Dataset into a Function Raster Dataset.", "help": "" } ], "rasterTypeInfos": [ { "name": "Raster Dataset", "description": "Supports all ArcGIS Raster Datasets", "help": "" } ], "mensurationCapabilities": "", "hasHistograms": true, "hasColormap": false, "hasRasterAttributeTable": false, "minScale": 0, "maxScale": 0, "exportTilesAllowed": false, "supportsStatistics": true, "supportsAdvancedQueries": true, "editFieldsInfo": null, "ownershipBasedAccessControlForRasters": null, "allowComputeTiePoints": false, "useStandardizedQueries": true, "advancedQueryCapabilities": { "useStandardizedQueries": true, "supportsStatistics": true, "supportsOrderBy": true, "supportsDistinct": true, "supportsPagination": true }, "spatialReference": { "wkid": 102100, "latestWkid": 3857 }, "resampling": false }