{ "currentVersion": 10.91, "serviceDescription": "

Time enabled Ridge 2 radar base reflectivity REST image service with WMS capabilities. Four hour moving window updating every 10 minutes with data for Conus, Alaska, The Caribbean, Guam, and Hawaii. <\/span><\/p>
Link to graphical web page<\/span>: https://radar.weather.gov/<\/span><\/a><\/p>
Link to data download (tif): <\/span>h<\/span>ttps://mrms.ncep.noaa.gov/data/<\/span><\/a><\/p>
Link to <\/span><\/span>metadata: <\/span>https://www.weather.gov/gis/IDP-GISRestMetadata<\/span><\/a><\/span><\/p>
Questions/Concerns about the service, please contact the <\/span><\/span>DISS GIS<\/span><\/span><\/span><\/a> team.<\/span><\/span><\/p>
<\/p>
Time Information:<\/span><\/span><\/p>
This service is time-enabled, meaning clients can submit image requests including a time parameter specified in epoch time format (milliseconds since 00:00 January 1, 1970).The time extent of this service includes the past four hours up to the current time updated approximately every ten minutes. All times are specifed in UTC. If time parameters are omitted, the most recent image will be returned. Refer to the <\/span>ArcGIS REST API Image Service Documentation <\/span><\/span>for more information. <\/span><\/p>
In addition to ArcGIS Server REST access, time-enabled OGC WMS 1.3.0 access is also provided by this service.<\/span><\/p>
In ArcGIS.com a time slider can be turned on by clicking the three dots under \"radar_base_reflectivity_time\" heading and choosing \"Enable Time Animation\". Note that the ArcGIS.com default client may initialize with an incorrect time extent in which case the user will need to specify the desired extent interactively. Refer to the <\/span>ArcGIS Online Help Documentation <\/span><\/span>for more information.<\/span><\/p><\/div><\/div><\/div>", "name": "radar/radar_base_reflectivity_time", "description": "

Time enabled Ridge 2 radar base reflectivity REST image service with WMS capabilities. Four hour moving window updating every 10 minutes with data for Conus, Alaska, The Caribbean, Guam, and Hawaii. <\/span><\/p>
Link to graphical web page<\/span>: https://radar.weather.gov/<\/span><\/a><\/p>
Link to data download (tif): <\/span>h<\/span>ttps://mrms.ncep.noaa.gov/data/<\/span><\/a><\/p>
Link to <\/span><\/span>metadata: <\/span>https://www.weather.gov/gis/IDP-GISRestMetadata<\/span><\/a><\/span><\/p>
Questions/Concerns about the service, please contact the <\/span><\/span>DISS GIS<\/span><\/span><\/span><\/a> team.<\/span><\/span><\/p>
<\/p>
Time Information:<\/span><\/span><\/p>
This service is time-enabled, meaning clients can submit image requests including a time parameter specified in epoch time format (milliseconds since 00:00 January 1, 1970).The time extent of this service includes the past four hours up to the current time updated approximately every ten minutes. All times are specifed in UTC. If time parameters are omitted, the most recent image will be returned. Refer to the <\/span>ArcGIS REST API Image Service Documentation <\/span><\/span>for more information. <\/span><\/p>
In addition to ArcGIS Server REST access, time-enabled OGC WMS 1.3.0 access is also provided by this service.<\/span><\/p>
In ArcGIS.com a time slider can be turned on by clicking the three dots under \"radar_base_reflectivity_time\" heading and choosing \"Enable Time Animation\". Note that the ArcGIS.com default client may initialize with an incorrect time extent in which case the user will need to specify the desired extent interactively. Refer to the <\/span>ArcGIS Online Help Documentation <\/span><\/span>for more information.<\/span><\/p><\/div><\/div><\/div>", "extent": { "xmin": -1.9592239385857902E7, "ymin": 1005777.6875881646, "xmax": 1.6698447855353057E7, "ymax": 1.1753428187926566E7, "spatialReference": { "wkid": 102100, "latestWkid": 3857 } }, "initialExtent": { "xmin": -1.9592239385857902E7, "ymin": 1005777.6875881646, "xmax": 1.6698447855353057E7, "ymax": 1.1753428187926566E7, "spatialReference": { "wkid": 102100, "latestWkid": 3857 } }, "fullExtent": { "xmin": -1.9592239385857902E7, "ymin": 1005777.6875881646, "xmax": 1.6698447855353057E7, "ymax": 1.1753428187926566E7, "spatialReference": { "wkid": 102100, "latestWkid": 3857 } }, "hasMultidimensions": false, "timeInfo": { "startTimeField": "IDP_ValidTime", "endTimeField": "IDP_ValidEndTime", "timeExtent": [ 1714892215000, 1714907097000 ], "timeReference": null }, "pixelSizeX": 564.77406728, "pixelSizeY": 564.77406728, "datasetFormat": "AMD", "uncompressedSize": 4891166720, "blockWidth": 2048, "blockHeight": 256, "compressionType": "None", "bandNames": [ "Band_1", "Band_2", "Band_3", "Band_4" ], "allowCopy": true, "allowAnalysis": true, "bandCount": 4, "noDataValue": 256, "noDataValues": [ 256, 256, 256, 256 ], "pixelType": "U8", "minPixelSize": 0, "maxPixelSize": 0, "copyrightText": "NOAA/NWS", "serviceDataType": "esriImageServiceDataTypeGeneric", "serviceSourceType": "esriImageServiceSourceTypeMosaicDataset", "minValues": [ 0, 0, 0, 0 ], "maxValues": [ 199, 199, 157, 255 ], "meanValues": [ 4.410771010510826, 5.862456593453018, 4.529041897947674, 11.585044195407464 ], "stdvValues": [ 22.497759437463127, 28.0670568359181, 23.21285568042137, 53.103418389440705 ], "objectIdField": "objectid", "fields": [ { "name": "objectid", "type": "esriFieldTypeOID", "alias": "objectid", "domain": null }, { "name": "name", "type": "esriFieldTypeString", "alias": "name", "domain": null, "length": 50 }, { "name": "category", "type": "esriFieldTypeInteger", "alias": "category", "domain": { "type": "codedValue", "name": "MosaicCatalogItemCategoryDomain", "description": "Catalog item categories.", "codedValues": [ { "name": "Unknown", "code": 0 }, { "name": "Primary", "code": 1 }, { "name": "Overview", "code": 2 }, { "name": "Unprocessed Overview", "code": 3 }, { "name": "Partial Overview", "code": 4 }, { "name": "Inactive", "code": 5 }, { "name": "Uploaded", "code": 253 }, { "name": "Incomplete", "code": 254 }, { "name": "Custom", "code": 255 } ], "mergePolicy": "esriMPTDefaultValue", "splitPolicy": "esriSPTDefaultValue" } }, { "name": "idp_source", "type": "esriFieldTypeString", "alias": "idp_source", "domain": null, "length": 50 }, { "name": "idp_subset", "type": "esriFieldTypeString", "alias": "idp_subset", "domain": null, "length": 50 }, { "name": "idp_filedate", "type": "esriFieldTypeDate", "alias": "idp_filedate", "domain": null, "length": 8 }, { "name": "idp_ingestdate", "type": "esriFieldTypeDate", "alias": "idp_ingestdate", "domain": null, "length": 8 }, { "name": "idp_current_forecast", "type": "esriFieldTypeInteger", "alias": "idp_current_forecast", "domain": null }, { "name": "idp_time_series", "type": "esriFieldTypeInteger", "alias": "idp_time_series", "domain": null }, { "name": "idp_issueddate", "type": "esriFieldTypeDate", "alias": "idp_issueddate", "domain": null, "length": 8 }, { "name": "idp_validtime", "type": "esriFieldTypeDate", "alias": "idp_validtime", "domain": null, "length": 8 }, { "name": "idp_validendtime", "type": "esriFieldTypeDate", "alias": "idp_validendtime", "domain": null, "length": 8 }, { "name": "shape", "type": "esriFieldTypeGeometry", "alias": "shape", "domain": null } ], "capabilities": "Catalog,Mensuration,Image,Metadata", "defaultMosaicMethod": "ByAttribute", "allowedMosaicMethods": "ByAttribute,LockRaster", "sortField": "IDP_Time_Series", "sortValue": "0", "sortAscending": true, "mosaicOperator": "First", "maxDownloadSizeLimit": 2048, "defaultCompressionQuality": 75, "defaultResamplingMethod": "Bilinear", "maxImageHeight": 4100, "maxImageWidth": 15000, "maxRecordCount": 1000, "maxDownloadImageCount": 20, "maxMosaicImageCount": 20, "allowRasterFunction": true, "rasterFunctionInfos": [ { "name": "None", "description": "A No-Op Function.", "help": "" } ], "rasterTypeInfos": [ { "name": "Raster Dataset", "description": "Supports all ArcGIS Raster Datasets", "help": "" } ], "mensurationCapabilities": "Basic", "hasHistograms": true, "hasColormap": false, "hasRasterAttributeTable": false, "minScale": 0, "maxScale": 0, "exportTilesAllowed": false, "supportsStatistics": true, "supportsAdvancedQueries": true, "editFieldsInfo": null, "ownershipBasedAccessControlForRasters": null, "allowComputeTiePoints": false, "useStandardizedQueries": true, "advancedQueryCapabilities": { "useStandardizedQueries": true, "supportsStatistics": true, "supportsOrderBy": true, "supportsDistinct": true, "supportsPagination": true }, "spatialReference": { "wkid": 102100, "latestWkid": 3857 } }