{ "currentVersion": 11.3, "serviceDescription": "

The Radar Base Reflective Time Imagery Service<\/b> consists of data from Multi-Radar/MULTI-Sensor System (MRMS). It provides weather radar information for all the composite Weather Service Doppler Radars (WSR 88-D). This image service has a four-hour moving time slider window. It has data for the Continental United States, Alaska, The Caribbean, Guam, and Hawaii. This radar base reflectivity image service also has WMS capabilities. <\/span><\/p>
Update Frequency: <\/span>Every 5 minutes<\/span><\/p>
Link to graphical web page<\/span>: https://radar.weather.gov/<\/span><\/a><\/p>
Link to data download (tif): <\/span>h<\/span>ttps://mrms.ncep.noaa.gov/data/<\/span><\/a><\/p>
Link to <\/span><\/span>metadata: <\/span>https://www.weather.gov/gis/IDP-GISRestMetadata<\/span><\/a><\/span><\/p>
Questions/Concerns about the service, please contact the <\/span><\/span>DISS GIS<\/span><\/span><\/span><\/a> team.<\/span><\/span><\/p>
<\/p>
Time Information: <\/b><\/span><\/span><\/p>
This service is time-enabled, meaning clients can submit image requests including a time parameter specified in epoch time format (milliseconds since 00:00 January 1, 1970).The time extent of this service includes the past four hours up to the current time updated approximately every ten minutes. All times are specifed in UTC. If time parameters are omitted, the most recent image will be returned. Refer to the <\/span>ArcGIS REST API Image Service Documentation <\/span><\/span>for more information. <\/span><\/p>
In addition to ArcGIS Server REST access, time-enabled OGC WMS 1.3.0 access is also provided by this service.<\/span><\/p>
In ArcGIS Online Map Viewer's a time slider can be turned on by clicking the three dots under \"radar_base_reflectivity_time\" heading and choosing \"Enable Time Animation\". Note that the ArcGIS Online Map Viewer's default client may initialize with an incorrect time extent in which case the user will need to specify the desired extent interactively. Refer to the <\/span>ArcGIS Online Map Viewer's Help Documentation <\/span><\/span>for more information.<\/span><\/p><\/div><\/div><\/div>", "name": "radar/radar_base_reflectivity_time", "description": "

The Radar Base Reflective Time Imagery Service<\/b> consists of data from Multi-Radar/MULTI-Sensor System (MRMS). It provides weather radar information for all the composite Weather Service Doppler Radars (WSR 88-D). This image service has a four-hour moving time slider window. It has data for the Continental United States, Alaska, The Caribbean, Guam, and Hawaii. This radar base reflectivity image service also has WMS capabilities. <\/span><\/p>
Update Frequency: <\/span>Every 5 minutes<\/span><\/p>
Link to graphical web page<\/span>: https://radar.weather.gov/<\/span><\/a><\/p>
Link to data download (tif): <\/span>h<\/span>ttps://mrms.ncep.noaa.gov/data/<\/span><\/a><\/p>
Link to <\/span><\/span>metadata: <\/span>https://www.weather.gov/gis/IDP-GISRestMetadata<\/span><\/a><\/span><\/p>
Questions/Concerns about the service, please contact the <\/span><\/span>DISS GIS<\/span><\/span><\/span><\/a> team.<\/span><\/span><\/p>
<\/p>
Time Information: <\/b><\/span><\/span><\/p>
This service is time-enabled, meaning clients can submit image requests including a time parameter specified in epoch time format (milliseconds since 00:00 January 1, 1970).The time extent of this service includes the past four hours up to the current time updated approximately every ten minutes. All times are specifed in UTC. If time parameters are omitted, the most recent image will be returned. Refer to the <\/span>ArcGIS REST API Image Service Documentation <\/span><\/span>for more information. <\/span><\/p>
In addition to ArcGIS Server REST access, time-enabled OGC WMS 1.3.0 access is also provided by this service.<\/span><\/p>
In ArcGIS Online Map Viewer's a time slider can be turned on by clicking the three dots under \"radar_base_reflectivity_time\" heading and choosing \"Enable Time Animation\". Note that the ArcGIS Online Map Viewer's default client may initialize with an incorrect time extent in which case the user will need to specify the desired extent interactively. Refer to the <\/span>ArcGIS Online Map Viewer's Help Documentation <\/span><\/span>for more information.<\/span><\/p><\/div><\/div><\/div>", "extent": { "xmin": -1.95922303796E7, "ymin": 1005534.1150377188, "xmax": 1.6698456861353938E7, "ymax": 1.17531846153E7, "spatialReference": { "wkid": 102100, "latestWkid": 3857 } }, "initialExtent": { "xmin": -1.95922303796E7, "ymin": 1005534.1150377188, "xmax": 1.6698456861353938E7, "ymax": 1.17531846153E7, "spatialReference": { "wkid": 102100, "latestWkid": 3857 } }, "fullExtent": { "xmin": -1.95922303796E7, "ymin": 1005534.1150377188, "xmax": 1.6698456861353938E7, "ymax": 1.17531846153E7, "spatialReference": { "wkid": 102100, "latestWkid": 3857 } }, "sortableFields": "IDP_FileDate,IDP_IngestDate,IDP_Current_Forecast,IDP_Time_Series,IDP_IssuedDate,IDP_ValidTime,IDP_ValidEndTime", "bandCount": 4, "pixelType": "U8", "minValues": [], "maxValues": [], "meanValues": [], "stdvValues": [], "hasMultidimensions": false, "timeInfo": { "startTimeField": "idp_validtime", "endTimeField": "idp_validendtime", "timeExtent": [ 1770893454000, 1770900201000 ], "timeReference": null }, "pixelSizeX": 564.7740672760001, "pixelSizeY": 564.7740672760001, "meanPixelSize": 564.7740672760001, "datasetFormat": "AMD", "uncompressedSize": 4891242840, "blockWidth": 2048, "blockHeight": 256, "compressionType": "None", "bandNames": [ "Band_1", "Band_2", "Band_3", "Band_4" ], "allowCopy": true, "allowAnalysis": true, "itemAccess": false, "inspectionCapabilities": "", "minPixelSize": 0, "maxPixelSize": 0, "copyrightText": "National Oceanic and Atmospheric Administration, NOAA, National Weather Service, NWS", "serviceDataType": "esriImageServiceDataTypeProcessed", "serviceSourceType": "esriImageServiceSourceTypeMosaicDataset", "objectIdField": "objectid", "fields": [ { "name": "objectid", "type": "esriFieldTypeOID", "alias": "objectid", "domain": null }, { "name": "name", "type": "esriFieldTypeString", "alias": "name", "domain": null, "length": 200 }, { "name": "category", "type": "esriFieldTypeInteger", "alias": "category", "domain": { "type": "codedValue", "name": "MosaicCatalogItemCategoryDomain", "description": "Catalog item categories.", "codedValues": [ { "name": "Unknown", "code": 0 }, { "name": "Primary", "code": 1 }, { "name": "Overview", "code": 2 }, { "name": "Unprocessed Overview", "code": 3 }, { "name": "Partial Overview", "code": 4 }, { "name": "Inactive", "code": 5 }, { "name": "Uploaded", "code": 253 }, { "name": "Incomplete", "code": 254 }, { "name": "Custom", "code": 255 } ], "mergePolicy": "esriMPTDefaultValue", "splitPolicy": "esriSPTDefaultValue" } }, { "name": "shape", "type": "esriFieldTypeGeometry", "alias": "shape", "domain": null }, { "name": "idp_subset", "type": "esriFieldTypeString", "alias": "idp_subset", "domain": null, "length": 50 }, { "name": "idp_current_forecast", "type": "esriFieldTypeSmallInteger", "alias": "idp_current_forecast", "domain": null }, { "name": "idp_validtime", "type": "esriFieldTypeDate", "alias": "idp_validtime", "domain": null, "length": 8 }, { "name": "idp_validendtime", "type": "esriFieldTypeDate", "alias": "idp_validendtime", "domain": null, "length": 8 }, { "name": "idp_filedate", "type": "esriFieldTypeDate", "alias": "idp_filedate", "domain": null, "length": 8 }, { "name": "idp_ingestdate", "type": "esriFieldTypeDate", "alias": "idp_ingestdate", "domain": null, "length": 8 } ], "capabilities": "Catalog,Mensuration,Image,Metadata", "defaultMosaicMethod": "ByAttribute", "allowedMosaicMethods": "ByAttribute,LockRaster", "sortField": "name", "sortValue": "0", "sortAscending": true, "mosaicOperator": "First", "maxDownloadSizeLimit": 2048, "defaultCompressionQuality": 75, "defaultResamplingMethod": "Bilinear", "maxImageHeight": 4100, "maxImageWidth": 15000, "maxRecordCount": 1000, "maxDownloadImageCount": 20, "maxMosaicImageCount": 20, "allowRasterFunction": true, "rasterFunctionInfos": [ { "name": "None", "description": "Make a Raster or Raster Dataset into a Function Raster Dataset.", "help": "" } ], "rasterTypeInfos": [ { "name": "Raster Dataset", "description": "Supports all ArcGIS Raster Datasets", "help": "" } ], "mensurationCapabilities": "Basic", "hasHistograms": false, "hasColormap": false, "hasRasterAttributeTable": false, "minScale": 0, "maxScale": 0, "exportTilesAllowed": false, "supportsStatistics": true, "supportsAdvancedQueries": true, "editFieldsInfo": null, "ownershipBasedAccessControlForRasters": null, "allowComputeTiePoints": false, "useStandardizedQueries": true, "advancedQueryCapabilities": { "useStandardizedQueries": true, "supportsStatistics": true, "supportsOrderBy": true, "supportsDistinct": true, "supportsPagination": true }, "spatialReference": { "wkid": 102100, "latestWkid": 3857 }, "resampling": false }